BEGIN:VCALENDAR
VERSION:2.0
PRODID:-//dhtmlXScheduler//NONSGML v2.2//EN
X-WR-CALNAME:Events
BEGIN:VEVENT
DTSTART:20220404T090000
DTEND:20220408T140000
UID:1
SUMMARY:Faculties of the Białystok University of Technology
END:VEVENT
END:VCALENDAR