BEGIN:VCALENDAR
VERSION:2.0
PRODID:-//dhtmlXScheduler//NONSGML v2.2//EN
X-WR-CALNAME:Wydarzenia
BEGIN:VEVENT
DTSTART:20260302T100000
DTEND:20260305T140000
UID:0
SUMMARY:Wydziałowe Dni Branżowe 2026
END:VEVENT
BEGIN:VEVENT
DTSTART:20260313T170000
DTEND:20260313T190000
UID:1
SUMMARY:Dyplomatoria 2026
END:VEVENT
BEGIN:VEVENT
DTSTART:20260324T110000
DTEND:20260324T140000
UID:2
SUMMARY:Sieciowanie podlaskich Biur Karier
END:VEVENT
END:VCALENDAR