BEGIN:VCALENDAR
VERSION:2.0
PRODID:-//dhtmlXScheduler//NONSGML v2.2//EN
X-WR-CALNAME:Wydarzenia
BEGIN:VEVENT
DTSTART:20250301T190000
DTEND:20250302T040000
UID:1
SUMMARY:Bal Inżyniera 2025
END:VEVENT
END:VCALENDAR