BEGIN:VCALENDAR
VERSION:2.0
PRODID:-//dhtmlXScheduler//NONSGML v2.2//EN
X-WR-CALNAME:Wydarzenia
BEGIN:VEVENT
DTSTART:20241024T103000
DTEND:20241024T131500
UID:1
SUMMARY:Dzień z firmą KAN
END:VEVENT
END:VCALENDAR