BEGIN:VCALENDAR
VERSION:2.0
PRODID:-//dhtmlXScheduler//NONSGML v2.2//EN
X-WR-CALNAME:Wydarzenia
BEGIN:VEVENT
DTSTART:20240304T090000
DTEND:20240308T130000
UID:1
SUMMARY:Giełda praktyk i staży PB 2024 Wydziały Politechniki Białostockiej
END:VEVENT
END:VCALENDAR