BEGIN:VCALENDAR
VERSION:2.0
PRODID:-//dhtmlXScheduler//NONSGML v2.2//EN
X-WR-CALNAME:Wydarzenia
BEGIN:VEVENT
DTSTART:20211012T100000
DTEND:20211013T150000
UID:1
SUMMARY:Targi Pracy PB 2021
END:VEVENT
END:VCALENDAR