BEGIN:VCALENDAR
VERSION:2.0
PRODID:-//dhtmlXScheduler//NONSGML v2.2//EN
X-WR-CALNAME:Wydarzenia
BEGIN:VEVENT
DTSTART:20231010T100000
DTEND:20231010T150000
UID:1
SUMMARY:Targi Pracy PB 2023
END:VEVENT
END:VCALENDAR