BEGIN:VCALENDAR
VERSION:2.0
PRODID:-//dhtmlXScheduler//NONSGML v2.2//EN
X-WR-CALNAME:Wydarzenia
BEGIN:VEVENT
DTSTART:20200425T000000
DTEND:20200509T000000
UID:1
SUMMARY:Targi Praktyk i Staży PB online 2020
END:VEVENT
END:VCALENDAR