BEGIN:VCALENDAR
VERSION:2.0
PRODID:-//dhtmlXScheduler//NONSGML v2.2//EN
X-WR-CALNAME:Wydarzenia
BEGIN:VEVENT
DTSTART:20201123T000000
DTEND:20201129T000000
UID:1
SUMMARY:Tragi Pracy online 2020
END:VEVENT
END:VCALENDAR