BEGIN:VCALENDAR
VERSION:2.0
PRODID:-//dhtmlXScheduler//NONSGML v2.2//EN
X-WR-CALNAME:Wydarzenia
BEGIN:VEVENT
DTSTART:20250303T100000
DTEND:20250307T140000
UID:1
SUMMARY:Wydziałowe Dni Branżowe Politechniki Białostockiej 2025
END:VEVENT
END:VCALENDAR